BEGIN:VCALENDAR
VERSION:2.0
PRODID:-//Constellation Schools - ECPv4.6.16//NONSGML v1.0//EN
CALSCALE:GREGORIAN
METHOD:PUBLISH
X-WR-CALNAME:Constellation Schools
X-ORIGINAL-URL:https://constellationschools.com
X-WR-CALDESC:Events for Constellation Schools
BEGIN:VEVENT
DTSTART;VALUE=DATE:20231121
DTEND;VALUE=DATE:20231122
DTSTAMP:20260424T124643
CREATED:20230328T161959Z
LAST-MODIFIED:20230328T161959Z
UID:30236-1700524800-1700611199@constellationschools.com
SUMMARY:Teacher Comp Day - Paraprofessionals Do Not Report – (No School for Students)
DESCRIPTION:
URL:https://constellationschools.com/event/teacher-comp-day-paraprofessionals-do-not-report-no-school-for-students/
LOCATION:5730 Broadview Road\, Parma\, OH\, 44134
CATEGORIES:Calendar Only
END:VEVENT
END:VCALENDAR