BEGIN:VCALENDAR
VERSION:2.0
PRODID:-//Constellation Schools - ECPv4.6.16//NONSGML v1.0//EN
CALSCALE:GREGORIAN
METHOD:PUBLISH
X-WR-CALNAME:Constellation Schools
X-ORIGINAL-URL:https://constellationschools.com
X-WR-CALDESC:Events for Constellation Schools
BEGIN:VEVENT
DTSTART;TZID=America/New_York:20240305T100000
DTEND;TZID=America/New_York:20240305T110000
DTSTAMP:20260424T061957
CREATED:20240118T200951Z
LAST-MODIFIED:20240118T200951Z
UID:37939-1709632800-1709636400@constellationschools.com
SUMMARY:Virtual Storytime & Show and Tell
DESCRIPTION:Celebrate Read Across America Week with ACCEL Schools! Circle round for Virtual Storytime and Show and Tell with your child as we learn about Early K & Kindergarten registration!\nWe offer a free\, full-day Kindergarten. At this event\, you will learn about our accredited schools\, academics\, extracurricular programs\, and school services. You will also preview our easy registration process.\nThis event takes place on Google Meet. Prior to the event\, you will receive log-in details. Prepare your child in advance to share a special item on screen!\nRSVP Today: https://constellationschools.com/events/\n
URL:https://constellationschools.com/event/virtual-storytime-show-and-tell/
CATEGORIES:Calendar Only,Prospective Families, Events, Home
END:VEVENT
END:VCALENDAR