BEGIN:VCALENDAR
VERSION:2.0
PRODID:-//Constellation Schools - ECPv4.6.16//NONSGML v1.0//EN
CALSCALE:GREGORIAN
METHOD:PUBLISH
X-WR-CALNAME:Constellation Schools
X-ORIGINAL-URL:https://constellationschools.com
X-WR-CALDESC:Events for Constellation Schools
BEGIN:VEVENT
DTSTART;TZID=America/New_York:20230302T180000
DTEND;TZID=America/New_York:20230302T190000
DTSTAMP:20260425T010200
CREATED:20230125T201552Z
LAST-MODIFIED:20230125T202155Z
UID:23978-1677780000-1677783600@constellationschools.com
SUMMARY:Virtual Storytime & Show and Tell
DESCRIPTION:Celebrate Read Across America Week with ACCEL Schools! \nCircle round for Virtual Storytime and Show and Tell with your child as we learn about Kindergarten registration! We offer a free\, full-day Kindergarten. At this event\, you will learn about our accredited schools\, academics\, extracurricular programs\, and school services. You will also preview our easy registration process. \nThis event takes place on Zoom. Prior to the event\, you will receive log-in details. Prepare your child in advance to share a special item on screen! \nRSVP Today: constellationschools.com/events \n
URL:https://constellationschools.com/event/virtual-storytime-show-tell/
CATEGORIES:Calendar Only,Prospective Families, Events, Home
END:VEVENT
END:VCALENDAR