BEGIN:VCALENDAR
VERSION:2.0
PRODID:-//Constellation Schools - ECPv4.6.16//NONSGML v1.0//EN
CALSCALE:GREGORIAN
METHOD:PUBLISH
X-WR-CALNAME:Constellation Schools
X-ORIGINAL-URL:https://constellationschools.com
X-WR-CALDESC:Events for Constellation Schools
BEGIN:VEVENT
DTSTART;TZID=America/New_York:20251115T123000
DTEND;TZID=America/New_York:20251115T123000
DTSTAMP:20260423T021656
CREATED:20250929T210501Z
LAST-MODIFIED:20250929T210501Z
UID:46152-1763209800-1763209800@constellationschools.com
SUMMARY:Volleyball Final
DESCRIPTION:
URL:https://constellationschools.com/event/volleyball-final/
LOCATION:5983 W 54th Street\, Parma\, OH\, 44129
CATEGORIES:Calendar Only
END:VEVENT
END:VCALENDAR