BEGIN:VCALENDAR
VERSION:2.0
PRODID:-//Constellation Schools - ECPv4.6.16//NONSGML v1.0//EN
CALSCALE:GREGORIAN
METHOD:PUBLISH
X-WR-CALNAME:Constellation Schools
X-ORIGINAL-URL:https://constellationschools.com
X-WR-CALDESC:Events for Constellation Schools
BEGIN:VEVENT
DTSTART;TZID=America/New_York:20251004T123000
DTEND;TZID=America/New_York:20251004T123000
DTSTAMP:20260423T032658
CREATED:20250929T200409Z
LAST-MODIFIED:20250929T200409Z
UID:46075-1759581000-1759581000@constellationschools.com
SUMMARY:Volleyball Game
DESCRIPTION:Lorain vs Puritas \n
URL:https://constellationschools.com/event/volleyball-game-12/
LOCATION:5983 W 54th Street\, Parma\, OH\, 44129
CATEGORIES:Calendar Only
END:VEVENT
END:VCALENDAR