BEGIN:VCALENDAR
VERSION:2.0
PRODID:-//Constellation Schools - ECPv4.6.16//NONSGML v1.0//EN
CALSCALE:GREGORIAN
METHOD:PUBLISH
X-WR-CALNAME:Constellation Schools
X-ORIGINAL-URL:https://constellationschools.com
X-WR-CALDESC:Events for Constellation Schools
BEGIN:VEVENT
DTSTART;TZID=America/New_York:20251008T183000
DTEND;TZID=America/New_York:20251008T183000
DTSTAMP:20260423T021337
CREATED:20250929T200549Z
LAST-MODIFIED:20250929T200549Z
UID:46079-1759948200-1759948200@constellationschools.com
SUMMARY:Volleyball Game
DESCRIPTION:Eastside Arts vs Madison \n
URL:https://constellationschools.com/event/volleyball-game-14/
LOCATION:5983 W 54th Street\, Parma\, OH\, 44129
CATEGORIES:Calendar Only
END:VEVENT
END:VCALENDAR