BEGIN:VCALENDAR
VERSION:2.0
PRODID:-//Constellation Schools - ECPv4.6.16//NONSGML v1.0//EN
CALSCALE:GREGORIAN
METHOD:PUBLISH
X-WR-CALNAME:Constellation Schools
X-ORIGINAL-URL:https://constellationschools.com
X-WR-CALDESC:Events for Constellation Schools
BEGIN:VEVENT
DTSTART;TZID=America/New_York:20251018T093000
DTEND;TZID=America/New_York:20251018T093000
DTSTAMP:20260423T034618
CREATED:20250929T202929Z
LAST-MODIFIED:20250929T202929Z
UID:46102-1760779800-1760779800@constellationschools.com
SUMMARY:Volleyball Game
DESCRIPTION:Old Brooklyn vs Stockyard \n
URL:https://constellationschools.com/event/volleyball-game-25/
LOCATION:1110 W 4th St\, Lorain\, OH\, 44052\, United States
CATEGORIES:Calendar Only
END:VEVENT
END:VCALENDAR