BEGIN:VCALENDAR
VERSION:2.0
PRODID:-//Constellation Schools - ECPv4.6.16//NONSGML v1.0//EN
CALSCALE:GREGORIAN
METHOD:PUBLISH
X-WR-CALNAME:Constellation Schools
X-ORIGINAL-URL:https://constellationschools.com
X-WR-CALDESC:Events for Constellation Schools
BEGIN:VEVENT
DTSTART;TZID=America/New_York:20251022T173000
DTEND;TZID=America/New_York:20251022T173000
DTSTAMP:20260423T020819
CREATED:20250929T203306Z
LAST-MODIFIED:20250929T203439Z
UID:46110-1761154200-1761154200@constellationschools.com
SUMMARY:Volleyball Game
DESCRIPTION:Westpark vs Stockyard \n
URL:https://constellationschools.com/event/volleyball-game-29/
LOCATION:5983 W 54th Street\, Parma\, OH\, 44129
CATEGORIES:Calendar Only
END:VEVENT
END:VCALENDAR