BEGIN:VCALENDAR
VERSION:2.0
PRODID:-//Constellation Schools - ECPv4.6.16//NONSGML v1.0//EN
CALSCALE:GREGORIAN
METHOD:PUBLISH
X-WR-CALNAME:Constellation Schools
X-ORIGINAL-URL:https://constellationschools.com
X-WR-CALDESC:Events for Constellation Schools
BEGIN:VEVENT
DTSTART;TZID=America/New_York:20251101T093000
DTEND;TZID=America/New_York:20251101T093000
DTSTAMP:20260423T004614
CREATED:20250929T205214Z
LAST-MODIFIED:20250929T205214Z
UID:46126-1761989400-1761989400@constellationschools.com
SUMMARY:Volleyball Game
DESCRIPTION:Elyria vs Parma \n
URL:https://constellationschools.com/event/volleyball-game-37/
LOCATION:1110 W 4th St\, Lorain\, OH\, 44052\, United States
CATEGORIES:Calendar Only
END:VEVENT
END:VCALENDAR