BEGIN:VCALENDAR
VERSION:2.0
PRODID:-//Constellation Schools - ECPv4.6.16//NONSGML v1.0//EN
CALSCALE:GREGORIAN
METHOD:PUBLISH
X-WR-CALNAME:Constellation Schools
X-ORIGINAL-URL:https://constellationschools.com
X-WR-CALDESC:Events for Constellation Schools
BEGIN:VEVENT
DTSTART;TZID=America/New_York:20251101T103000
DTEND;TZID=America/New_York:20251101T103000
DTSTAMP:20260423T020819
CREATED:20250929T205314Z
LAST-MODIFIED:20250929T205314Z
UID:46128-1761993000-1761993000@constellationschools.com
SUMMARY:Volleyball Game
DESCRIPTION:Washington vs Lorain \n
URL:https://constellationschools.com/event/volleyball-game-38/
LOCATION:1110 W 4th St\, Lorain\, OH\, 44052\, United States
CATEGORIES:Calendar Only
END:VEVENT
END:VCALENDAR