BEGIN:VCALENDAR
VERSION:2.0
PRODID:-//Constellation Schools - ECPv4.6.16//NONSGML v1.0//EN
CALSCALE:GREGORIAN
METHOD:PUBLISH
X-WR-CALNAME:Constellation Schools
X-ORIGINAL-URL:https://constellationschools.com
X-WR-CALDESC:Events for Constellation Schools
BEGIN:VEVENT
DTSTART;TZID=America/New_York:20251101T113000
DTEND;TZID=America/New_York:20251101T113000
DTSTAMP:20260423T021441
CREATED:20250929T205407Z
LAST-MODIFIED:20250929T205407Z
UID:46130-1761996600-1761996600@constellationschools.com
SUMMARY:Volleyball Game
DESCRIPTION:Madison vs Old Brooklyn \n
URL:https://constellationschools.com/event/volleyball-game-39/
LOCATION:1110 W 4th St\, Lorain\, OH\, 44052\, United States
CATEGORIES:Calendar Only
END:VEVENT
END:VCALENDAR