BEGIN:VCALENDAR
VERSION:2.0
PRODID:-//Constellation Schools - ECPv4.6.16//NONSGML v1.0//EN
CALSCALE:GREGORIAN
METHOD:PUBLISH
X-WR-CALNAME:Constellation Schools
X-ORIGINAL-URL:https://constellationschools.com
X-WR-CALDESC:Events for Constellation Schools
BEGIN:VEVENT
DTSTART;TZID=America/New_York:20251108T083000
DTEND;TZID=America/New_York:20251108T083000
DTSTAMP:20260423T004120
CREATED:20250929T205544Z
LAST-MODIFIED:20250929T205544Z
UID:46134-1762590600-1762590600@constellationschools.com
SUMMARY:Volleyball Game
DESCRIPTION:Westpark vs Parma \n
URL:https://constellationschools.com/event/volleyball-game-41/
LOCATION:5983 W 54th Street\, Parma\, OH\, 44129
CATEGORIES:Calendar Only
END:VEVENT
END:VCALENDAR