BEGIN:VCALENDAR
VERSION:2.0
PRODID:-//Constellation Schools - ECPv4.6.16//NONSGML v1.0//EN
CALSCALE:GREGORIAN
METHOD:PUBLISH
X-WR-CALNAME:Constellation Schools
X-ORIGINAL-URL:https://constellationschools.com
X-WR-CALDESC:Events for Constellation Schools
BEGIN:VEVENT
DTSTART;TZID=America/New_York:20251115T093000
DTEND;TZID=America/New_York:20251115T093000
DTSTAMP:20260423T021655
CREATED:20250929T210207Z
LAST-MODIFIED:20250929T210207Z
UID:46146-1763199000-1763199000@constellationschools.com
SUMMARY:Volleyball Quarterfinal
DESCRIPTION:Seed 5 vs Seed 4 \n
URL:https://constellationschools.com/event/volleyball-quarterfinal/
LOCATION:5983 W 54th Street\, Parma\, OH\, 44129
CATEGORIES:Calendar Only
END:VEVENT
END:VCALENDAR