BEGIN:VCALENDAR
VERSION:2.0
PRODID:-//Constellation Schools - ECPv4.6.16//NONSGML v1.0//EN
CALSCALE:GREGORIAN
METHOD:PUBLISH
X-WR-CALNAME:Constellation Schools
X-ORIGINAL-URL:https://constellationschools.com
X-WR-CALDESC:Events for Constellation Schools
BEGIN:VEVENT
DTSTART;TZID=America/New_York:20230727T140000
DTEND;TZID=America/New_York:20230727T180000
DTSTAMP:20260424T191301
CREATED:20230516T133122Z
LAST-MODIFIED:20230725T162825Z
UID:31933-1690466400-1690480800@constellationschools.com
SUMMARY:Westpark Community - Family Fun Fest
DESCRIPTION:Join us for a FREE & FUN event to celebrate the Westpark Community where we will have family-friendly activities like a “make believe” foam party\, snacks & more! Meet our principal\, teachers\, and staff & learn about our school. \n\nMiddle School Students please join us from 2p-4p\nElementary Students please join us from 4p-6p\n\nRSVP Today! https://constellationschools.com/westpark-events/ \n
URL:https://constellationschools.com/event/west-park-community-family-fun-fest/
LOCATION:16210 Lorain Ave\, Cleveland\, OH\, 44111
CATEGORIES:Calendar Only,Prospective Families, Events, Home
END:VEVENT
END:VCALENDAR