BEGIN:VCALENDAR
VERSION:2.0
PRODID:-//Constellation Schools - ECPv4.6.16//NONSGML v1.0//EN
CALSCALE:GREGORIAN
METHOD:PUBLISH
X-WR-CALNAME:Constellation Schools
X-ORIGINAL-URL:https://constellationschools.com
X-WR-CALDESC:Events for Constellation Schools
BEGIN:VEVENT
DTSTART;TZID=America/New_York:20230324T130000
DTEND;TZID=America/New_York:20230324T150000
DTSTAMP:20260425T023029
CREATED:20230307T194411Z
LAST-MODIFIED:20230307T194411Z
UID:27926-1679662800-1679670000@constellationschools.com
SUMMARY:Westpark Community - Kindergarten & Cookies
DESCRIPTION:Enjoy this sweet time with your child to learn about Early K & Kindergarten registration! \nWe offer a free\, full-day Kindergarten. At this event\, you will learn about our accredited school\, academics\, extracurricular programs\, and school services. \nEnjoy a cookie\, tour the campus\, meet our staff\, and preview our easy registration process! \nRSVP Today: constellationschools.com/westpark-elementary-events/  \n
URL:https://constellationschools.com/event/westpark-community-kindergarten-cookies/
LOCATION:16210 Lorain Ave\, Cleveland\, OH\, 44111
CATEGORIES:Calendar Only,Prospective Families, Events, Home
END:VEVENT
END:VCALENDAR