BEGIN:VCALENDAR
VERSION:2.0
PRODID:-//Constellation Schools - ECPv4.6.16//NONSGML v1.0//EN
CALSCALE:GREGORIAN
METHOD:PUBLISH
X-WR-CALNAME:Constellation Schools
X-ORIGINAL-URL:https://constellationschools.com
X-WR-CALDESC:Events for Constellation Schools
BEGIN:VEVENT
DTSTART;TZID=America/New_York:20240726T110000
DTEND;TZID=America/New_York:20240726T130000
DTSTAMP:20260423T234421
CREATED:20240621T181322Z
LAST-MODIFIED:20240621T181322Z
UID:41821-1721991600-1721998800@constellationschools.com
SUMMARY:Westpark Community - Kool Down with Kona Ice!
DESCRIPTION:Join us for a tropical escape\, FREE Kona Ice & and an opportunity to learn about our school! Meet our staff\, tour our campus & receive registration support.  \nRSVP Today! constellationschools.com/parma-events \n
URL:https://constellationschools.com/event/westpark-community-kool-down-with-kona-ice/
LOCATION:16210 Lorain Ave\, Cleveland\, OH\, 44111
CATEGORIES:Calendar Only,Prospective Families, Events, Home
END:VEVENT
END:VCALENDAR