BEGIN:VCALENDAR
VERSION:2.0
PRODID:-//Constellation Schools - ECPv4.6.16//NONSGML v1.0//EN
CALSCALE:GREGORIAN
METHOD:PUBLISH
X-WR-CALNAME:Constellation Schools
X-ORIGINAL-URL:https://constellationschools.com
X-WR-CALDESC:Events for Constellation Schools
BEGIN:VEVENT
DTSTART;TZID=America/New_York:20240214T163000
DTEND;TZID=America/New_York:20240214T180000
DTSTAMP:20260424T074823
CREATED:20240206T155409Z
LAST-MODIFIED:20240206T155409Z
UID:38653-1707928200-1707933600@constellationschools.com
SUMMARY:Westside Community - Art Exhibition
DESCRIPTION:Curious about an Arts education? See our public charter school in action during our student art exhibition! Join us for student galleries and to see the work of Mandeep Kala\, art teacher. Meet our staff\, tour our campus & receive registration support.  \nRSVP Today! constellationschools.com/westside-events  \n
URL:https://constellationschools.com/event/westside-community-art-exhibition/
LOCATION:3727 Bosworth Rd\, Cleveland\, OH\, 44111
CATEGORIES:Calendar Only,Prospective Families, Events, Home
END:VEVENT
END:VCALENDAR