BEGIN:VCALENDAR
VERSION:2.0
PRODID:-//Constellation Schools - ECPv4.6.16//NONSGML v1.0//EN
CALSCALE:GREGORIAN
METHOD:PUBLISH
X-WR-CALNAME:Constellation Schools
X-ORIGINAL-URL:https://constellationschools.com
X-WR-CALDESC:Events for Constellation Schools
BEGIN:VEVENT
DTSTART;TZID=America/New_York:20230727T120000
DTEND;TZID=America/New_York:20230727T150000
DTSTAMP:20260424T190630
CREATED:20230706T140133Z
LAST-MODIFIED:20230706T140133Z
UID:33001-1690459200-1690470000@constellationschools.com
SUMMARY:Westside Community - Back to School Bash
DESCRIPTION:The school year is about to begin & it’s not too late to enroll! Join us to celebrate the back to school season and prepare for the year ahead. Come to our BTS Bash to meet our school leaders\, community members\, enjoy facepainting & ballo0n art\, and receive free school supplies. Refreshments will be served. Start or finalize your enrollment paperwork with the help of our team. \nRSVP Today! constellationschools.com/westside-events  \n
URL:https://constellationschools.com/event/westside-community-back-to-school-bash/
LOCATION:3727 Bosworth Rd\, Cleveland\, OH\, 44111
CATEGORIES:Calendar Only,Prospective Families, Events, Home
END:VEVENT
END:VCALENDAR