BEGIN:VCALENDAR
VERSION:2.0
PRODID:-//Constellation Schools - ECPv4.6.16//NONSGML v1.0//EN
CALSCALE:GREGORIAN
METHOD:PUBLISH
X-WR-CALNAME:Constellation Schools
X-ORIGINAL-URL:https://constellationschools.com
X-WR-CALDESC:Events for Constellation Schools
BEGIN:VEVENT
DTSTART;TZID=America/New_York:20240814T140000
DTEND;TZID=America/New_York:20240814T160000
DTSTAMP:20260423T220829
CREATED:20240731T145141Z
LAST-MODIFIED:20240731T145141Z
UID:42568-1723644000-1723651200@constellationschools.com
SUMMARY:Westside Community - Let's "Taco" 'bout Data
DESCRIPTION:Let’s taco’bout data and dive into what’s happening this school year! Come and learn about our school and enjoy a DJ\, dancing\, face painting\, and a balloon artist.  \nRSVP Today! constellationschools.com/westside-events  \n
URL:https://constellationschools.com/event/westside-community-lets-taco-bout-data/
LOCATION:3727 Bosworth Rd\, Cleveland\, OH\, 44111
CATEGORIES:Calendar Only,Prospective Families, Events, Home
END:VEVENT
END:VCALENDAR