BEGIN:VCALENDAR
VERSION:2.0
PRODID:-//Constellation Schools - ECPv4.6.16//NONSGML v1.0//EN
CALSCALE:GREGORIAN
METHOD:PUBLISH
X-WR-CALNAME:Constellation Schools
X-ORIGINAL-URL:https://constellationschools.com
X-WR-CALDESC:Events for Constellation Schools
BEGIN:VEVENT
DTSTART;VALUE=DATE:20231221
DTEND;VALUE=DATE:20231230
DTSTAMP:20260424T105322
CREATED:20230328T162250Z
LAST-MODIFIED:20230328T162250Z
UID:30260-1703116800-1703894399@constellationschools.com
SUMMARY:Winter Break (No School)
DESCRIPTION:
URL:https://constellationschools.com/event/winter-break-no-school/
LOCATION:5730 Broadview Road\, Parma\, OH\, 44134
CATEGORIES:Calendar Only
END:VEVENT
END:VCALENDAR